BEGIN:VCALENDAR
VERSION:2.0
PRODID:-//Nectar Farm Kitchen - ECPv6.15.17.1//NONSGML v1.0//EN
CALSCALE:GREGORIAN
METHOD:PUBLISH
X-WR-CALNAME:Nectar Farm Kitchen
X-ORIGINAL-URL:https://nectarfarmkitchen.com
X-WR-CALDESC:Events for Nectar Farm Kitchen
REFRESH-INTERVAL;VALUE=DURATION:PT1H
X-Robots-Tag:noindex
X-PUBLISHED-TTL:PT1H
BEGIN:VTIMEZONE
TZID:America/New_York
BEGIN:DAYLIGHT
TZOFFSETFROM:-0500
TZOFFSETTO:-0400
TZNAME:EDT
DTSTART:20250309T070000
END:DAYLIGHT
BEGIN:STANDARD
TZOFFSETFROM:-0400
TZOFFSETTO:-0500
TZNAME:EST
DTSTART:20251102T060000
END:STANDARD
BEGIN:DAYLIGHT
TZOFFSETFROM:-0500
TZOFFSETTO:-0400
TZNAME:EDT
DTSTART:20260308T070000
END:DAYLIGHT
BEGIN:STANDARD
TZOFFSETFROM:-0400
TZOFFSETTO:-0500
TZNAME:EST
DTSTART:20261101T060000
END:STANDARD
BEGIN:DAYLIGHT
TZOFFSETFROM:-0500
TZOFFSETTO:-0400
TZNAME:EDT
DTSTART:20270314T070000
END:DAYLIGHT
BEGIN:STANDARD
TZOFFSETFROM:-0400
TZOFFSETTO:-0500
TZNAME:EST
DTSTART:20271107T060000
END:STANDARD
END:VTIMEZONE
BEGIN:VEVENT
DTSTART;TZID=America/New_York:20260110T150000
DTEND;TZID=America/New_York:20260110T150000
DTSTAMP:20260419T115215
CREATED:20250630T110734Z
LAST-MODIFIED:20251219T013136Z
UID:2751-1768057200-1768057200@nectarfarmkitchen.com
SUMMARY:Oyster Roast
DESCRIPTION:
URL:https://nectarfarmkitchen.com/event/oyster-roast-4/
LOCATION:Nectar Old Town Bluffton\, 207 Bluffton Road\, Bluffton\, South Carolina\, 29910\, United States
CATEGORIES:Bluffton Events
ATTACH;FMTTYPE=image/jpeg:https://nectarfarmkitchen.com/wp-content/uploads/2025/06/01.2026_NEC-BLUFF_OysterRoast_RAY.jpg
END:VEVENT
BEGIN:VEVENT
DTSTART;TZID=America/New_York:20260115T160000
DTEND;TZID=America/New_York:20260115T180000
DTSTAMP:20260419T115215
CREATED:20251219T013326Z
LAST-MODIFIED:20251219T013326Z
UID:3210-1768492800-1768500000@nectarfarmkitchen.com
SUMMARY:Yappy Hour Adoption Drive
DESCRIPTION:
URL:https://nectarfarmkitchen.com/event/yappy-hour-adoption-drive/
LOCATION:Nectar Old Town Bluffton\, 207 Bluffton Road\, Bluffton\, South Carolina\, 29910\, United States
CATEGORIES:Bluffton Events
ATTACH;FMTTYPE=image/jpeg:https://nectarfarmkitchen.com/wp-content/uploads/2025/12/01.2026_NEC_BLUFF_YappyHour_RAY.jpg
END:VEVENT
END:VCALENDAR