BEGIN:VCALENDAR
VERSION:2.0
PRODID:-//Nectar Farm Kitchen - ECPv6.15.17.1//NONSGML v1.0//EN
CALSCALE:GREGORIAN
METHOD:PUBLISH
X-WR-CALNAME:Nectar Farm Kitchen
X-ORIGINAL-URL:https://nectarfarmkitchen.com
X-WR-CALDESC:Events for Nectar Farm Kitchen
REFRESH-INTERVAL;VALUE=DURATION:PT1H
X-Robots-Tag:noindex
X-PUBLISHED-TTL:PT1H
BEGIN:VTIMEZONE
TZID:America/New_York
BEGIN:DAYLIGHT
TZOFFSETFROM:-0500
TZOFFSETTO:-0400
TZNAME:EDT
DTSTART:20250309T070000
END:DAYLIGHT
BEGIN:STANDARD
TZOFFSETFROM:-0400
TZOFFSETTO:-0500
TZNAME:EST
DTSTART:20251102T060000
END:STANDARD
BEGIN:DAYLIGHT
TZOFFSETFROM:-0500
TZOFFSETTO:-0400
TZNAME:EDT
DTSTART:20260308T070000
END:DAYLIGHT
BEGIN:STANDARD
TZOFFSETFROM:-0400
TZOFFSETTO:-0500
TZNAME:EST
DTSTART:20261101T060000
END:STANDARD
BEGIN:DAYLIGHT
TZOFFSETFROM:-0500
TZOFFSETTO:-0400
TZNAME:EDT
DTSTART:20270314T070000
END:DAYLIGHT
BEGIN:STANDARD
TZOFFSETFROM:-0400
TZOFFSETTO:-0500
TZNAME:EST
DTSTART:20271107T060000
END:STANDARD
END:VTIMEZONE
BEGIN:VEVENT
DTSTART;VALUE=DATE:20260317
DTEND;VALUE=DATE:20260318
DTSTAMP:20260421T093305
CREATED:20260311T103824Z
LAST-MODIFIED:20260315T010718Z
UID:3475-1773705600-1773791999@nectarfarmkitchen.com
SUMMARY:St. Patrick's Day Menu
DESCRIPTION:
URL:https://nectarfarmkitchen.com/event/st-patricks-day-menu/
LOCATION:Hilton Head Island\, 841 William Hilton Pkwy Unit A\, Hilton Head Island\, SC\, 29928\, United States
CATEGORIES:Hilton Head Events
ATTACH;FMTTYPE=image/jpeg:https://nectarfarmkitchen.com/wp-content/uploads/2025/01/large-03.2026_NEC-HHI_StPatricks_Menu_revised_RAY.jpg
END:VEVENT
END:VCALENDAR