BEGIN:VCALENDAR
VERSION:2.0
PRODID:-//Nectar Farm Kitchen - ECPv6.15.17.1//NONSGML v1.0//EN
CALSCALE:GREGORIAN
METHOD:PUBLISH
X-WR-CALNAME:Nectar Farm Kitchen
X-ORIGINAL-URL:https://nectarfarmkitchen.com
X-WR-CALDESC:Events for Nectar Farm Kitchen
REFRESH-INTERVAL;VALUE=DURATION:PT1H
X-Robots-Tag:noindex
X-PUBLISHED-TTL:PT1H
BEGIN:VTIMEZONE
TZID:America/New_York
BEGIN:DAYLIGHT
TZOFFSETFROM:-0500
TZOFFSETTO:-0400
TZNAME:EDT
DTSTART:20250309T070000
END:DAYLIGHT
BEGIN:STANDARD
TZOFFSETFROM:-0400
TZOFFSETTO:-0500
TZNAME:EST
DTSTART:20251102T060000
END:STANDARD
BEGIN:DAYLIGHT
TZOFFSETFROM:-0500
TZOFFSETTO:-0400
TZNAME:EDT
DTSTART:20260308T070000
END:DAYLIGHT
BEGIN:STANDARD
TZOFFSETFROM:-0400
TZOFFSETTO:-0500
TZNAME:EST
DTSTART:20261101T060000
END:STANDARD
BEGIN:DAYLIGHT
TZOFFSETFROM:-0500
TZOFFSETTO:-0400
TZNAME:EDT
DTSTART:20270314T070000
END:DAYLIGHT
BEGIN:STANDARD
TZOFFSETFROM:-0400
TZOFFSETTO:-0500
TZNAME:EST
DTSTART:20271107T060000
END:STANDARD
END:VTIMEZONE
BEGIN:VEVENT
DTSTART;TZID=America/New_York:20260211T170000
DTEND;TZID=America/New_York:20260211T193000
DTSTAMP:20260421T112552
CREATED:20260126T184056Z
LAST-MODIFIED:20260126T184056Z
UID:3369-1770829200-1770838200@nectarfarmkitchen.com
SUMMARY:Pink Partini
DESCRIPTION:
URL:https://nectarfarmkitchen.com/event/pink-partini/
LOCATION:Nectar Old Town Bluffton\, 207 Bluffton Road\, Bluffton\, South Carolina\, 29910\, United States
CATEGORIES:Bluffton Events
ATTACH;FMTTYPE=image/jpeg:https://nectarfarmkitchen.com/wp-content/uploads/2026/01/pinkpartini-Bluffton.jpg
END:VEVENT
BEGIN:VEVENT
DTSTART;TZID=America/New_York:20260212T180000
DTEND;TZID=America/New_York:20260212T180000
DTSTAMP:20260421T112552
CREATED:20260115T153321Z
LAST-MODIFIED:20260115T153321Z
UID:3289-1770919200-1770919200@nectarfarmkitchen.com
SUMMARY:J.Lohr Wine Dinner
DESCRIPTION:
URL:https://nectarfarmkitchen.com/event/j-lohr-wine-dinner/
LOCATION:Nectar Old Town Bluffton\, 207 Bluffton Road\, Bluffton\, South Carolina\, 29910\, United States
CATEGORIES:Bluffton Events
ATTACH;FMTTYPE=image/jpeg:https://nectarfarmkitchen.com/wp-content/uploads/2026/01/02.2026_NEC-BLUFF_JLohrWineDinner_11x17-clickhere.jpg
END:VEVENT
BEGIN:VEVENT
DTSTART;TZID=America/New_York:20260221T150000
DTEND;TZID=America/New_York:20260221T150000
DTSTAMP:20260421T112552
CREATED:20250630T111209Z
LAST-MODIFIED:20260112T160212Z
UID:2752-1771686000-1771686000@nectarfarmkitchen.com
SUMMARY:Oyster Roast
DESCRIPTION:
URL:https://nectarfarmkitchen.com/event/oyster-roast-6/
LOCATION:Nectar Old Town Bluffton\, 207 Bluffton Road\, Bluffton\, South Carolina\, 29910\, United States
CATEGORIES:Bluffton Events
ATTACH;FMTTYPE=image/jpeg:https://nectarfarmkitchen.com/wp-content/uploads/2025/06/02.2026_NEC-BLUFF_OysterRoast_11x17.jpg
END:VEVENT
BEGIN:VEVENT
DTSTART;TZID=America/New_York:20260221T180000
DTEND;TZID=America/New_York:20260221T200000
DTSTAMP:20260421T112552
CREATED:20250905T033103Z
LAST-MODIFIED:20250905T033103Z
UID:2894-1771696800-1771704000@nectarfarmkitchen.com
SUMMARY:Exclusive Bourbon Dinner ft. Heaven Hill
DESCRIPTION:
URL:https://nectarfarmkitchen.com/event/exclusive-bourbon-dinner-ft-heaven-hill/
LOCATION:Hilton Head Island\, 841 William Hilton Pkwy Unit A\, Hilton Head Island\, SC\, 29928\, United States
CATEGORIES:Hilton Head Events
END:VEVENT
BEGIN:VEVENT
DTSTART;TZID=America/New_York:20260221T183000
DTEND;TZID=America/New_York:20260221T183000
DTSTAMP:20260421T112552
CREATED:20260131T033759Z
LAST-MODIFIED:20260216T160333Z
UID:3400-1771698600-1771698600@nectarfarmkitchen.com
SUMMARY:Heaven Hill Bottled-In-Bond - Bourbon Dinner
DESCRIPTION:*Sold Out
URL:https://nectarfarmkitchen.com/event/heaven-hill-bottled-in-bond-bourbon-dinner/
LOCATION:Hilton Head Island\, 841 William Hilton Pkwy Unit A\, Hilton Head Island\, SC\, 29928\, United States
CATEGORIES:Hilton Head Events
ATTACH;FMTTYPE=image/jpeg:https://nectarfarmkitchen.com/wp-content/uploads/2026/01/02.2026_NEC-HHI_HeavenHillBondDinner_11x17-CLICK.jpg
END:VEVENT
END:VCALENDAR